BEGIN:VCALENDAR
VERSION:2.0
PRODID:-//Beyondering - ECPv4.5.9//NONSGML v1.0//EN
CALSCALE:GREGORIAN
METHOD:PUBLISH
X-WR-CALNAME:Beyondering
X-ORIGINAL-URL:http://beyondering.com.au
X-WR-CALDESC:Events for Beyondering
BEGIN:VEVENT
DTSTART;TZID=UTC+0:20170424T183000
DTEND;TZID=UTC+0:20170424T213000
DTSTAMP:20190228T214441
CREATED:20170712T104228Z
LAST-MODIFIED:20170712T104249Z
UID:1629-1493058600-1493069400@beyondering.com.au
SUMMARY:Documentary viewing: How to Let Go of the World
DESCRIPTION:We will be hosting a special screening of the 2016 climate change documentary: How to Let Go of the World and Love all the Things That Climate Can’t Change. It is not a religious movie\, but one concerned with working together for the good of our planet … and therefore implicitly spiritual. Certainly a movie anyone interested in the environment will benefit from seeing. \nTickets at $20. We need to sell a minimum of 57 tickets for the screening to go ahead. So book your tickets and invite friends and family and people from any groups you’re a part of. \nWe’ll watch the screening together and with an optional dessert and coffee afterwards to share what emerged for us. \nTRAILER: https://www.youtube.com/watch?v=cjfZFAAv19Q \n
URL:http://beyondering.com.au/event/cinema-documentary-how-to-let-go-of-the-world/
LOCATION:285-287 Springvale Rd\, Glen Waverley\, Victoria\, 3150\, Australia
ATTACH;FMTTYPE=image/jpeg:http://beyondering.com.au/wp-content/uploads/2017/07/17309594_642251769300704_1474903233561942628_n.jpg
END:VEVENT
END:VCALENDAR